BEGIN:VCALENDAR
VERSION:2.0
PRODID:-//ChamberMaster//Event Calendar 2.0//EN
METHOD:PUBLISH
X-PUBLISHED-TTL:P3D
REFRESH-INTERVAL:P3D
CALSCALE:GREGORIAN
BEGIN:VEVENT
DTSTART:20161217T170000Z
DTEND:20161217T180000Z
X-MICROSOFT-CDO-ALLDAYEVENT:FALSE
SUMMARY:Wreaths across America Ceremony
DESCRIPTION:Sponsor a wreath with a $15 donation up until November 28th\n\nContact Northern Peace Funeral Home
X-ALT-DESC;FMTTYPE=text/html:Sponsor a wreath with a $15 donation up until November 28th<br />\nContact Northern Peace Funeral Home
LOCATION:Evergreen Cemetery Walker\, MN
UID:e.11.9090
SEQUENCE:3
DTSTAMP:20260421T141149Z
URL:https://leechlake.mobileappview.com/events/details/wreaths-across-america-ceremony-9090
END:VEVENT

END:VCALENDAR
