BEGIN:VCALENDAR
VERSION:2.0
PRODID:-//ChamberMaster//Event Calendar 2.0//EN
METHOD:PUBLISH
X-PUBLISHED-TTL:P3D
REFRESH-INTERVAL:P3D
CALSCALE:GREGORIAN
BEGIN:VEVENT
DTSTART:20160811T220000Z
DTEND:20160811T230000Z
X-MICROSOFT-CDO-ALLDAYEVENT:FALSE
SUMMARY:Y Weight? Support Group
DESCRIPTION:Meetings for CHI St. Joseph's surgical weight-loss patients at 5 pm in Lower Level Conference Rooms B & C. For more information contact Judy Miller  218-616-3310
X-ALT-DESC;FMTTYPE=text/html:Meetings for CHI St. Joseph&#39\;s surgical weight-loss patients at 5 pm in Lower Level Conference Rooms B &amp\; C. For more information contact Judy Miller &nbsp\;218-616-3310<br />\n&nbsp\;
LOCATION:
UID:e.11.8379
SEQUENCE:3
DTSTAMP:20260421T204525Z
URL:https://leechlake.mobileappview.com/events/details/y-weight-support-group-08-11-2016-8379
END:VEVENT

END:VCALENDAR
