BEGIN:VCALENDAR
VERSION:2.0
PRODID:-//ChamberMaster//Event Calendar 2.0//EN
METHOD:PUBLISH
X-PUBLISHED-TTL:P3D
REFRESH-INTERVAL:P3D
CALSCALE:GREGORIAN
BEGIN:VEVENT
DTSTART;VALUE=DATE:20160908
DTEND;VALUE=DATE:20160909
TRANSP:TRANSPARENT
X-MICROSOFT-CDO-ALLDAYEVENT:TRUE
SUMMARY:Y Weight? Support Group
DESCRIPTION:meetings for CHI St. Joseph's Health surgical weight-loss patients at 5 pm in Lower Level Conference Room B & C. For more information contact Judy Miller  218-616-3310
X-ALT-DESC;FMTTYPE=text/html:meetings for CHI St. Joseph&#39\;s Health surgical weight-loss patients at 5 pm in Lower Level Conference Room B &amp\; C. For more information contact Judy Miller &nbsp\;218-616-3310
LOCATION:
UID:e.11.8380
SEQUENCE:3
DTSTAMP:20260421T190340Z
URL:https://leechlake.mobileappview.com/events/details/y-weight-support-group-09-08-2016-8380
END:VEVENT

END:VCALENDAR
