BEGIN:VCALENDAR
VERSION:2.0
PRODID:-//ChamberMaster//Event Calendar 2.0//EN
METHOD:PUBLISH
X-PUBLISHED-TTL:P3D
REFRESH-INTERVAL:P3D
CALSCALE:GREGORIAN
BEGIN:VEVENT
DTSTART:20171118T163000Z
DTEND:20171118T180000Z
X-MICROSOFT-CDO-ALLDAYEVENT:FALSE
SUMMARY:Yoga and Craft Beer
DESCRIPTION:Portage Brewery Presents\n\nYoga and Craft Beer
X-ALT-DESC;FMTTYPE=text/html:Portage Brewery Presents<br />\nYoga and Craft Beer
LOCATION:107 S. 5th St. Walker\, MN
UID:e.11.12469
SEQUENCE:3
DTSTAMP:20260420T203033Z
URL:https://leechlake.mobileappview.com/events/details/yoga-and-craft-beer-12469
END:VEVENT

END:VCALENDAR
