BEGIN:VCALENDAR
VERSION:2.0
PRODID:-//ChamberMaster//Event Calendar 2.0//EN
METHOD:PUBLISH
X-PUBLISHED-TTL:P3D
REFRESH-INTERVAL:P3D
CALSCALE:GREGORIAN
BEGIN:VEVENT
DTSTART:20180106T163000Z
DTEND:20180106T180000Z
X-MICROSOFT-CDO-ALLDAYEVENT:FALSE
SUMMARY:Yoga and Craft Beer and 2018 Intention Settings
DESCRIPTION:Portage Brewery Presents\n\nYoga and Craft Beer
X-ALT-DESC;FMTTYPE=text/html:Portage Brewery Presents<br />\nYoga and Craft Beer
LOCATION:107 S. 5th St. Walker\, MN
UID:e.11.12557
SEQUENCE:3
DTSTAMP:20260420T171815Z
URL:https://leechlake.mobileappview.com/events/details/yoga-and-craft-beer-and-2018-intention-settings-12557
END:VEVENT

END:VCALENDAR
