BEGIN:VCALENDAR
VERSION:2.0
PRODID:-//ChamberMaster//Event Calendar 2.0//EN
METHOD:PUBLISH
X-PUBLISHED-TTL:P3D
REFRESH-INTERVAL:P3D
CALSCALE:GREGORIAN
BEGIN:VEVENT
DTSTART:20190207T000000Z
DTEND:20190207T020000Z
X-MICROSOFT-CDO-ALLDAYEVENT:FALSE
SUMMARY:You Can Make Sushi Too
DESCRIPTION:Come learn how to create your own sushi rolls and leave ready to make it at your place tomorrow night.
X-ALT-DESC;FMTTYPE=text/html:Come learn how to create your own sushi rolls and leave ready to make it at your place tomorrow night.
LOCATION:WHA High School Cooking Room
UID:e.11.19540
SEQUENCE:3
DTSTAMP:20260419T213615Z
URL:https://leechlake.mobileappview.com/events/details/you-can-make-sushi-too-19540
END:VEVENT

END:VCALENDAR
