BEGIN:VCALENDAR
VERSION:2.0
PRODID:-//ChamberMaster//Event Calendar 2.0//EN
METHOD:PUBLISH
X-PUBLISHED-TTL:P3D
REFRESH-INTERVAL:P3D
CALSCALE:GREGORIAN
BEGIN:VEVENT
DTSTART:20180523T000000Z
DTEND:20180523T020000Z
X-MICROSOFT-CDO-ALLDAYEVENT:FALSE
SUMMARY:Your community center - Your call
DESCRIPTION:
X-ALT-DESC;FMTTYPE=text/html:
LOCATION:Walker Area Community Center
UID:e.11.16437
SEQUENCE:3
DTSTAMP:20260420T105420Z
URL:https://leechlake.mobileappview.com/events/details/your-community-center-your-call-16437
END:VEVENT

END:VCALENDAR
