BEGIN:VCALENDAR
VERSION:2.0
PRODID:-//ChamberMaster//Event Calendar 2.0//EN
METHOD:PUBLISH
X-PUBLISHED-TTL:P3D
REFRESH-INTERVAL:P3D
CALSCALE:GREGORIAN
BEGIN:VEVENT
DTSTART;VALUE=DATE:20180506
DTEND;VALUE=DATE:20180507
TRANSP:TRANSPARENT
X-MICROSOFT-CDO-ALLDAYEVENT:TRUE
SUMMARY:Youth Crappie Tournament
DESCRIPTION:Registration begins at noon\n\nAll youth welcome Ages 14 and under\n\nMust be accompanied by an adult\n\nDoor prizes\n\nfree hot dogs and pop for kids
X-ALT-DESC;FMTTYPE=text/html:Registration begins at noon<br>\nAll youth welcome Ages 14 and under<br>\nMust be accompanied by an adult<br>\nDoor prizes<br>\nfree hot dogs and pop for kids
LOCATION:Walker Marine Marina
UID:e.11.12518
SEQUENCE:3
DTSTAMP:20260420T105640Z
URL:https://leechlake.mobileappview.com/events/details/youth-crappie-tournament-12518
END:VEVENT

END:VCALENDAR
