BEGIN:VCALENDAR
VERSION:2.0
PRODID:-//ChamberMaster//Event Calendar 2.0//EN
METHOD:PUBLISH
X-PUBLISHED-TTL:P3D
REFRESH-INTERVAL:P3D
CALSCALE:GREGORIAN
BEGIN:VEVENT
DTSTART:20170507T180000Z
DTEND:20170507T200000Z
X-MICROSOFT-CDO-ALLDAYEVENT:FALSE
SUMMARY:Youth Crappie Tournament - Walker Marine Marina
DESCRIPTION:Kid's Crappie Fishing tournament is for all kids up to 14 years old.
X-ALT-DESC;FMTTYPE=text/html:Kid&#39\;s Crappie Fishing tournament is for all kids up to 14 years old.
LOCATION:Walker Marine Marina
UID:e.11.9156
SEQUENCE:3
DTSTAMP:20260421T062052Z
URL:https://leechlake.mobileappview.com/events/details/youth-crappie-tournament-walker-marine-marina-9156
END:VEVENT

END:VCALENDAR
