BEGIN:VCALENDAR
VERSION:2.0
PRODID:-//ChamberMaster//Event Calendar 2.0//EN
METHOD:PUBLISH
X-PUBLISHED-TTL:P3D
REFRESH-INTERVAL:P3D
CALSCALE:GREGORIAN
BEGIN:VEVENT
DTSTART;VALUE=DATE:20180214
DTEND;VALUE=DATE:20180215
TRANSP:TRANSPARENT
X-MICROSOFT-CDO-ALLDAYEVENT:TRUE
SUMMARY:youth Curling Club Co-ed League
DESCRIPTION:9-12th grade
X-ALT-DESC;FMTTYPE=text/html:9-12th grade
LOCATION:WACC
UID:e.11.12975
SEQUENCE:3
DTSTAMP:20260420T155305Z
URL:https://leechlake.mobileappview.com/events/details/youth-curling-club-co-ed-league-02-14-2018-12975
END:VEVENT

END:VCALENDAR
