BEGIN:VCALENDAR
VERSION:2.0
PRODID:-//ChamberMaster//Event Calendar 2.0//EN
METHOD:PUBLISH
X-PUBLISHED-TTL:P3D
REFRESH-INTERVAL:P3D
CALSCALE:GREGORIAN
BEGIN:VEVENT
DTSTART:20180131T213000Z
DTEND:20180131T230000Z
X-MICROSOFT-CDO-ALLDAYEVENT:FALSE
SUMMARY:Youth Curling Club Co-ed League
DESCRIPTION:
X-ALT-DESC;FMTTYPE=text/html:
LOCATION:WACC
UID:e.11.12968
SEQUENCE:3
DTSTAMP:20260420T171929Z
URL:https://leechlake.mobileappview.com/events/details/youth-curling-club-co-ed-league-12968
END:VEVENT

END:VCALENDAR
