BEGIN:VCALENDAR
VERSION:2.0
PRODID:-//ChamberMaster//Event Calendar 2.0//EN
METHOD:PUBLISH
X-PUBLISHED-TTL:P3D
REFRESH-INTERVAL:P3D
CALSCALE:GREGORIAN
BEGIN:VEVENT
DTSTART;VALUE=DATE:20180221
DTEND;VALUE=DATE:20180222
TRANSP:TRANSPARENT
X-MICROSOFT-CDO-ALLDAYEVENT:TRUE
SUMMARY:Youth Curling Club Co-ed League
DESCRIPTION:9-12th grades
X-ALT-DESC;FMTTYPE=text/html:9-12th grades
LOCATION:WACC
UID:e.11.12976
SEQUENCE:3
DTSTAMP:20260420T154140Z
URL:https://leechlake.mobileappview.com/events/details/youth-curling-club-co-ed-league-12976
END:VEVENT

END:VCALENDAR
